BEGIN:VCALENDAR
VERSION:2.0
PRODID:spatie/icalendar-generator
NAME:Using ChatGPT with Excel
X-WR-CALNAME:Using ChatGPT with Excel
BEGIN:VTIMEZONE
TZID:America/New_York
BEGIN:STANDARD
DTSTART:20241103T010000
TZOFFSETFROM:-0400
TZOFFSETTO:-0500
END:STANDARD
BEGIN:DAYLIGHT
DTSTART:20250309T010000
TZOFFSETFROM:-0500
TZOFFSETTO:-0400
END:DAYLIGHT
END:VTIMEZONE
BEGIN:VTIMEZONE
TZID:UTC
BEGIN:STANDARD
DTSTART:20250729T173542
TZOFFSETFROM:+0000
TZOFFSETTO:+0000
END:STANDARD
END:VTIMEZONE
BEGIN:VEVENT
UID:69ecfb6ea797b
DTSTAMP:20260425T173542Z
SUMMARY:Using ChatGPT with Excel
LOCATION: 
URL:https://macpa.org/catalog/events/20245807-using-chatgpt-with-excel-2025
 -26-03
DTSTART;TZID=America/New_York:20250326T153000
DTEND;TZID=America/New_York:20250326T173000
END:VEVENT
END:VCALENDAR