BEGIN:VCALENDAR
VERSION:2.0
PRODID:spatie/icalendar-generator
NAME:Technology Trends Update for CPAs with John Higgins
X-WR-CALNAME:Technology Trends Update for CPAs with John Higgins
BEGIN:VTIMEZONE
TZID:America/New_York
BEGIN:STANDARD
DTSTART:20241103T010000
TZOFFSETFROM:-0400
TZOFFSETTO:-0500
END:STANDARD
BEGIN:DAYLIGHT
DTSTART:20250309T010000
TZOFFSETFROM:-0500
TZOFFSETTO:-0400
END:DAYLIGHT
END:VTIMEZONE
BEGIN:VTIMEZONE
TZID:UTC
BEGIN:STANDARD
DTSTART:20250725T065033
TZOFFSETFROM:+0000
TZOFFSETTO:+0000
END:STANDARD
END:VTIMEZONE
BEGIN:VEVENT
UID:69e71e3985619
DTSTAMP:20260421T065033Z
SUMMARY:Technology Trends Update for CPAs with John Higgins
LOCATION: 
URL:https://macpa.org/catalog/events/20245534-technology-trends-update-for-
 cpas-with-john-higgins-2025-21-03
DTSTART;TZID=America/New_York:20250321T090000
DTEND;TZID=America/New_York:20250321T130000
END:VEVENT
END:VCALENDAR