BEGIN:VCALENDAR
VERSION:2.0
PRODID:spatie/icalendar-generator
NAME:MACPA Town Hall (July 2024)
X-WR-CALNAME:MACPA Town Hall (July 2024)
BEGIN:VTIMEZONE
TZID:America/New_York
BEGIN:STANDARD
DTSTART:20231105T010000
TZOFFSETFROM:-0400
TZOFFSETTO:-0500
END:STANDARD
BEGIN:DAYLIGHT
DTSTART:20240310T010000
TZOFFSETFROM:-0500
TZOFFSETTO:-0400
END:DAYLIGHT
BEGIN:STANDARD
DTSTART:20241103T010000
TZOFFSETFROM:-0400
TZOFFSETTO:-0500
END:STANDARD
END:VTIMEZONE
BEGIN:VTIMEZONE
TZID:UTC
BEGIN:STANDARD
DTSTART:20250726T103201
TZOFFSETFROM:+0000
TZOFFSETTO:+0000
END:STANDARD
END:VTIMEZONE
BEGIN:VEVENT
UID:69e8a3a1ea079
DTSTAMP:20260422T103201Z
SUMMARY:MACPA Town Hall (July 2024)
LOCATION: 
URL:https://macpa.org/catalog/events/20165113-macpa-town-hall-july-2024-202
 4-17-07
DTSTART;TZID=America/New_York:20240717T090000
DTEND;TZID=America/New_York:20240717T100000
END:VEVENT
END:VCALENDAR