BEGIN:VCALENDAR
VERSION:2.0
PRODID:spatie/icalendar-generator
NAME:Auerbach Tax Series (In Collaboration with VSCPA)
X-WR-CALNAME:Auerbach Tax Series (In Collaboration with VSCPA)
BEGIN:VTIMEZONE
TZID:America/New_York
BEGIN:DAYLIGHT
DTSTART:20240310T010000
TZOFFSETFROM:-0500
TZOFFSETTO:-0400
END:DAYLIGHT
BEGIN:STANDARD
DTSTART:20241103T010000
TZOFFSETFROM:-0400
TZOFFSETTO:-0500
END:STANDARD
BEGIN:DAYLIGHT
DTSTART:20250309T010000
TZOFFSETFROM:-0500
TZOFFSETTO:-0400
END:DAYLIGHT
END:VTIMEZONE
BEGIN:VTIMEZONE
TZID:UTC
BEGIN:STANDARD
DTSTART:20250727T143021
TZOFFSETFROM:+0000
TZOFFSETTO:+0000
END:STANDARD
END:VTIMEZONE
BEGIN:VEVENT
UID:69ea2cfd745b9
DTSTAMP:20260423T143021Z
SUMMARY:Auerbach Tax Series (In Collaboration with VSCPA)
LOCATION: 
URL:https://macpa.org/catalog/events/20106441-auerbach-tax-series-in-collab
 oration-with-vscpa-2024-17-10
DTSTART;TZID=America/New_York:20241017T090000
DTEND;TZID=America/New_York:20241017T104000
END:VEVENT
END:VCALENDAR