BEGIN:VCALENDAR
VERSION:2.0
PRODID:spatie/icalendar-generator
NAME:Performing Preparation\, Compilation and Review Engagements
X-WR-CALNAME:Performing Preparation\, Compilation and Review Engagements
BEGIN:VTIMEZONE
TZID:America/New_York
BEGIN:STANDARD
DTSTART:20241103T010000
TZOFFSETFROM:-0400
TZOFFSETTO:-0500
END:STANDARD
BEGIN:DAYLIGHT
DTSTART:20250309T010000
TZOFFSETFROM:-0500
TZOFFSETTO:-0400
END:DAYLIGHT
END:VTIMEZONE
BEGIN:VTIMEZONE
TZID:UTC
BEGIN:STANDARD
DTSTART:20250726T231548
TZOFFSETFROM:+0000
TZOFFSETTO:+0000
END:STANDARD
END:VTIMEZONE
BEGIN:VEVENT
UID:69e956a4d85a4
DTSTAMP:20260422T231548Z
SUMMARY:Performing Preparation\, Compilation and Review Engagements
LOCATION: 
URL:https://macpa.org/catalog/events/20085137-performing-preparation-compil
 ation-and-review-engagements-2025-24-04
DTSTART;TZID=America/New_York:20250424T140000
DTEND;TZID=America/New_York:20250424T160000
END:VEVENT
END:VCALENDAR