BEGIN:VCALENDAR
VERSION:2.0
PRODID:spatie/icalendar-generator
NAME:Impact of GASB Activities on State and Local Government
X-WR-CALNAME:Impact of GASB Activities on State and Local Government
BEGIN:VTIMEZONE
TZID:America/New_York
BEGIN:STANDARD
DTSTART:20241103T010000
TZOFFSETFROM:-0400
TZOFFSETTO:-0500
END:STANDARD
BEGIN:DAYLIGHT
DTSTART:20250309T010000
TZOFFSETFROM:-0500
TZOFFSETTO:-0400
END:DAYLIGHT
END:VTIMEZONE
BEGIN:VTIMEZONE
TZID:UTC
BEGIN:STANDARD
DTSTART:20250724T124806
TZOFFSETFROM:+0000
TZOFFSETTO:+0000
END:STANDARD
END:VTIMEZONE
BEGIN:VEVENT
UID:69e62086a2fc7
DTSTAMP:20260420T124806Z
SUMMARY:Impact of GASB Activities on State and Local Government
LOCATION: 
URL:https://macpa.org/catalog/events/20085022-impact-of-gasb-activities-on-
 state-and-local-government-2025-02-04
DTSTART;TZID=America/New_York:20250402T120000
DTEND;TZID=America/New_York:20250402T150000
END:VEVENT
END:VCALENDAR