BEGIN:VCALENDAR
VERSION:2.0
PRODID:spatie/icalendar-generator
NAME:Introduction to Forensic Accounting (In Collaboration with NCACPA)
X-WR-CALNAME:Introduction to Forensic Accounting (In Collaboration with NCA
 CPA)
BEGIN:VTIMEZONE
TZID:America/New_York
BEGIN:DAYLIGHT
DTSTART:20240310T010000
TZOFFSETFROM:-0500
TZOFFSETTO:-0400
END:DAYLIGHT
BEGIN:STANDARD
DTSTART:20241103T010000
TZOFFSETFROM:-0400
TZOFFSETTO:-0500
END:STANDARD
BEGIN:DAYLIGHT
DTSTART:20250309T010000
TZOFFSETFROM:-0500
TZOFFSETTO:-0400
END:DAYLIGHT
END:VTIMEZONE
BEGIN:VTIMEZONE
TZID:UTC
BEGIN:STANDARD
DTSTART:20250724T143311
TZOFFSETFROM:+0000
TZOFFSETTO:+0000
END:STANDARD
END:VTIMEZONE
BEGIN:VEVENT
UID:69e63927aa666
DTSTAMP:20260420T143311Z
SUMMARY:Introduction to Forensic Accounting (In Collaboration with NCACPA)
LOCATION: 
URL:https://macpa.org/catalog/events/20069003-introduction-to-forensic-acco
 unting-in-collaboration-with-ncacpa-2024-20-09
DTSTART;TZID=America/New_York:20240920T130000
DTEND;TZID=America/New_York:20240920T164500
END:VEVENT
END:VCALENDAR