BEGIN:VCALENDAR
VERSION:2.0
PRODID:spatie/icalendar-generator
NAME:1040 Fast Track - A Comprehensive Guide for Tax Practitioners
X-WR-CALNAME:1040 Fast Track - A Comprehensive Guide for Tax Practitioners
BEGIN:VTIMEZONE
TZID:America/New_York
BEGIN:STANDARD
DTSTART:20241103T010000
TZOFFSETFROM:-0400
TZOFFSETTO:-0500
END:STANDARD
BEGIN:DAYLIGHT
DTSTART:20250309T010000
TZOFFSETFROM:-0500
TZOFFSETTO:-0400
END:DAYLIGHT
END:VTIMEZONE
BEGIN:VTIMEZONE
TZID:UTC
BEGIN:STANDARD
DTSTART:20250727T013559
TZOFFSETFROM:+0000
TZOFFSETTO:+0000
END:STANDARD
END:VTIMEZONE
BEGIN:VEVENT
UID:69e9777fbe004
DTSTAMP:20260423T013559Z
SUMMARY:1040 Fast Track - Day One
LOCATION: 
URL:https://macpa.org/catalog/events/20068609-1040-fast-track-a-comprehensi
 ve-guide-for-tax-practitioners-2025-16-01
DTSTART;TZID=America/New_York:20250116T080000
DTEND;TZID=America/New_York:20250116T153000
END:VEVENT
BEGIN:VEVENT
UID:69e9777fc2b7e
DTSTAMP:20260423T013559Z
SUMMARY:1040 Fast Track - Day Two
LOCATION: 
URL:https://macpa.org/catalog/events/20068609-1040-fast-track-a-comprehensi
 ve-guide-for-tax-practitioners-2025-16-01
DTSTART;TZID=America/New_York:20250117T080000
DTEND;TZID=America/New_York:20250117T153000
END:VEVENT
END:VCALENDAR