BEGIN:VCALENDAR
VERSION:2.0
PRODID:spatie/icalendar-generator
NAME:Auerbach Tax Series (In Collaboration with the VSCPA)
X-WR-CALNAME:Auerbach Tax Series (In Collaboration with the VSCPA)
BEGIN:VTIMEZONE
TZID:America/New_York
BEGIN:STANDARD
DTSTART:20231105T010000
TZOFFSETFROM:-0400
TZOFFSETTO:-0500
END:STANDARD
BEGIN:DAYLIGHT
DTSTART:20240310T010000
TZOFFSETFROM:-0500
TZOFFSETTO:-0400
END:DAYLIGHT
BEGIN:STANDARD
DTSTART:20241103T010000
TZOFFSETFROM:-0400
TZOFFSETTO:-0500
END:STANDARD
END:VTIMEZONE
BEGIN:VTIMEZONE
TZID:UTC
BEGIN:STANDARD
DTSTART:20250726T221957
TZOFFSETFROM:+0000
TZOFFSETTO:+0000
END:STANDARD
END:VTIMEZONE
BEGIN:VEVENT
UID:69e9498d75a1b
DTSTAMP:20260422T221957Z
SUMMARY:Auerbach Tax Series (In Collaboration with the VSCPA)
LOCATION: 
URL:https://macpa.org/catalog/events/20068093-auerbach-tax-series-in-collab
 oration-with-the-vscpa-2024-20-06
DTSTART;TZID=America/New_York:20240620T090000
DTEND;TZID=America/New_York:20240620T104000
END:VEVENT
END:VCALENDAR