BEGIN:VCALENDAR
VERSION:2.0
PRODID:spatie/icalendar-generator
NAME:Auerbach Tax Series (In Collaboration with VSCPA)
X-WR-CALNAME:Auerbach Tax Series (In Collaboration with VSCPA)
BEGIN:VTIMEZONE
TZID:America/New_York
BEGIN:STANDARD
DTSTART:20231105T010000
TZOFFSETFROM:-0400
TZOFFSETTO:-0500
END:STANDARD
BEGIN:DAYLIGHT
DTSTART:20240310T010000
TZOFFSETFROM:-0500
TZOFFSETTO:-0400
END:DAYLIGHT
BEGIN:STANDARD
DTSTART:20241103T010000
TZOFFSETFROM:-0400
TZOFFSETTO:-0500
END:STANDARD
END:VTIMEZONE
BEGIN:VTIMEZONE
TZID:UTC
BEGIN:STANDARD
DTSTART:20250726T212728
TZOFFSETFROM:+0000
TZOFFSETTO:+0000
END:STANDARD
END:VTIMEZONE
BEGIN:VEVENT
UID:69e93d4038eb3
DTSTAMP:20260422T212728Z
SUMMARY:Auerbach Tax Series (In Collaboration with VSCPA)
LOCATION: 
URL:https://macpa.org/catalog/events/20068080-auerbach-tax-series-in-collab
 oration-with-vscpa-2024-23-05
DTSTART;TZID=America/New_York:20240523T090000
DTEND;TZID=America/New_York:20240523T104000
END:VEVENT
END:VCALENDAR