BEGIN:VCALENDAR
VERSION:2.0
PRODID:spatie/icalendar-generator
NAME:Beach Retreat:  Welcome Reception - Sponsored by Frost Law
X-WR-CALNAME:Beach Retreat:  Welcome Reception - Sponsored by Frost Law
BEGIN:VTIMEZONE
TZID:America/New_York
BEGIN:STANDARD
DTSTART:20231105T010000
TZOFFSETFROM:-0400
TZOFFSETTO:-0500
END:STANDARD
BEGIN:DAYLIGHT
DTSTART:20240310T010000
TZOFFSETFROM:-0500
TZOFFSETTO:-0400
END:DAYLIGHT
BEGIN:STANDARD
DTSTART:20241103T010000
TZOFFSETFROM:-0400
TZOFFSETTO:-0500
END:STANDARD
END:VTIMEZONE
BEGIN:VTIMEZONE
TZID:UTC
BEGIN:STANDARD
DTSTART:20250727T163331
TZOFFSETFROM:+0000
TZOFFSETTO:+0000
END:STANDARD
END:VTIMEZONE
BEGIN:VEVENT
UID:69ea49db45020
DTSTAMP:20260423T163331Z
SUMMARY:Beach Retreat:  Welcome Reception - Sponsored by Frost Law
LOCATION:9100 Coastal Hwy\, Ocean City\, Worcester County\, Maryland 21842
URL:https://macpa.org/catalog/events/20066989-beach-retreat-welcome-recepti
 on-sponsored-by-frost-law-2024-17-06
DTSTART;TZID=America/New_York:20240617T160000
DTEND;TZID=America/New_York:20240617T180000
END:VEVENT
END:VCALENDAR