BEGIN:VCALENDAR
VERSION:2.0
PRODID:spatie/icalendar-generator
NAME:(Canceled) Beach Retreat: Real World Frauds Found in Governments
X-WR-CALNAME:(Canceled) Beach Retreat: Real World Frauds Found in Governmen
 ts
BEGIN:VTIMEZONE
TZID:America/New_York
BEGIN:STANDARD
DTSTART:20231105T010000
TZOFFSETFROM:-0400
TZOFFSETTO:-0500
END:STANDARD
BEGIN:DAYLIGHT
DTSTART:20240310T010000
TZOFFSETFROM:-0500
TZOFFSETTO:-0400
END:DAYLIGHT
BEGIN:STANDARD
DTSTART:20241103T010000
TZOFFSETFROM:-0400
TZOFFSETTO:-0500
END:STANDARD
END:VTIMEZONE
BEGIN:VTIMEZONE
TZID:UTC
BEGIN:STANDARD
DTSTART:20250727T164057
TZOFFSETFROM:+0000
TZOFFSETTO:+0000
END:STANDARD
END:VTIMEZONE
BEGIN:VEVENT
UID:69ea4b9936faa
DTSTAMP:20260423T164057Z
SUMMARY:(Canceled) Beach Retreat: Real World Frauds Found in Governments
LOCATION:9100 Coastal Hwy\, Ocean City\, Worcester County\, Maryland 21842
URL:https://macpa.org/catalog/events/20066895-canceled-beach-retreat-real-w
 orld-frauds-found-in-governments-2024-19-06
DTSTART;TZID=America/New_York:20240619T073000
DTEND;TZID=America/New_York:20240619T110000
END:VEVENT
END:VCALENDAR