BEGIN:VCALENDAR
VERSION:2.0
PRODID:spatie/icalendar-generator
NAME:Beach Retreat: Preparation\, Compilation\, and Review Engagements: Upd
 ate and Review
X-WR-CALNAME:Beach Retreat: Preparation\, Compilation\, and Review Engageme
 nts: Update and Review
BEGIN:VTIMEZONE
TZID:America/New_York
BEGIN:STANDARD
DTSTART:20231105T010000
TZOFFSETFROM:-0400
TZOFFSETTO:-0500
END:STANDARD
BEGIN:DAYLIGHT
DTSTART:20240310T010000
TZOFFSETFROM:-0500
TZOFFSETTO:-0400
END:DAYLIGHT
BEGIN:STANDARD
DTSTART:20241103T010000
TZOFFSETFROM:-0400
TZOFFSETTO:-0500
END:STANDARD
END:VTIMEZONE
BEGIN:VTIMEZONE
TZID:UTC
BEGIN:STANDARD
DTSTART:20250727T163137
TZOFFSETFROM:+0000
TZOFFSETTO:+0000
END:STANDARD
END:VTIMEZONE
BEGIN:VEVENT
UID:69ea4969299a8
DTSTAMP:20260423T163137Z
SUMMARY:Beach Retreat: Preparation\, Compilation\, and Review Engagements: 
 Update and Review
LOCATION:9100 Coastal Hwy\, Ocean City\, Worcester County\, Maryland 21842
URL:https://macpa.org/catalog/events/20066872-beach-retreat-preparation-com
 pilation-and-review-engagements-update-and-review-2024-18-06
DTSTART;TZID=America/New_York:20240618T120000
DTEND;TZID=America/New_York:20240618T153000
END:VEVENT
END:VCALENDAR