BEGIN:VCALENDAR
VERSION:2.0
PRODID:spatie/icalendar-generator
NAME:Beach Retreat:  Interpreting the New Revenue Recognition Standard: Wha
 t All CPAs Need to Know
X-WR-CALNAME:Beach Retreat:  Interpreting the New Revenue Recognition Stand
 ard: What All CPAs Need to Know
BEGIN:VTIMEZONE
TZID:America/New_York
BEGIN:STANDARD
DTSTART:20231105T010000
TZOFFSETFROM:-0400
TZOFFSETTO:-0500
END:STANDARD
BEGIN:DAYLIGHT
DTSTART:20240310T010000
TZOFFSETFROM:-0500
TZOFFSETTO:-0400
END:DAYLIGHT
BEGIN:STANDARD
DTSTART:20241103T010000
TZOFFSETFROM:-0400
TZOFFSETTO:-0500
END:STANDARD
END:VTIMEZONE
BEGIN:VTIMEZONE
TZID:UTC
BEGIN:STANDARD
DTSTART:20250727T163158
TZOFFSETFROM:+0000
TZOFFSETTO:+0000
END:STANDARD
END:VTIMEZONE
BEGIN:VEVENT
UID:69ea497e89793
DTSTAMP:20260423T163158Z
SUMMARY:Beach Retreat:  Interpreting the New Revenue Recognition Standard: 
 What All CPAs Need to Know
LOCATION:9100 Coastal Hwy\, Ocean City\, Worcester County\, Maryland 21842
URL:https://macpa.org/catalog/events/20066832-beach-retreat-interpreting-th
 e-new-revenue-recognition-standard-what-all-cpas-need-to-know-2024-19-06
DTSTART;TZID=America/New_York:20240619T120000
DTEND;TZID=America/New_York:20240619T153000
END:VEVENT
END:VCALENDAR