BEGIN:VCALENDAR
VERSION:2.0
PRODID:spatie/icalendar-generator
NAME:Beach Retreat:  Finance Business Partnering: The Changing Finance Func
 tion and Technology Impacts
X-WR-CALNAME:Beach Retreat:  Finance Business Partnering: The Changing Fina
 nce Function and Technology Impacts
BEGIN:VTIMEZONE
TZID:America/New_York
BEGIN:STANDARD
DTSTART:20231105T010000
TZOFFSETFROM:-0400
TZOFFSETTO:-0500
END:STANDARD
BEGIN:DAYLIGHT
DTSTART:20240310T010000
TZOFFSETFROM:-0500
TZOFFSETTO:-0400
END:DAYLIGHT
BEGIN:STANDARD
DTSTART:20241103T010000
TZOFFSETFROM:-0400
TZOFFSETTO:-0500
END:STANDARD
END:VTIMEZONE
BEGIN:VTIMEZONE
TZID:UTC
BEGIN:STANDARD
DTSTART:20250727T163159
TZOFFSETFROM:+0000
TZOFFSETTO:+0000
END:STANDARD
END:VTIMEZONE
BEGIN:VEVENT
UID:69ea497f0f1bf
DTSTAMP:20260423T163159Z
SUMMARY:Beach Retreat:  Finance Business Partnering: The Changing Finance F
 unction and Technology Impacts
LOCATION:9100 Coastal Hwy\, Ocean City\, Worcester County\, Maryland 21842
URL:https://macpa.org/catalog/events/20066817-beach-retreat-finance-busines
 s-partnering-the-changing-finance-function-and-technology-impacts-2024-19-
 06
DTSTART;TZID=America/New_York:20240619T073000
DTEND;TZID=America/New_York:20240619T110000
END:VEVENT
END:VCALENDAR