BEGIN:VCALENDAR
VERSION:2.0
PRODID:spatie/icalendar-generator
NAME:Beach Retreat: Finance Business Partnering: Techniques for Effective a
 nd Impactful Communication
X-WR-CALNAME:Beach Retreat: Finance Business Partnering: Techniques for Eff
 ective and Impactful Communication
BEGIN:VTIMEZONE
TZID:America/New_York
BEGIN:STANDARD
DTSTART:20231105T010000
TZOFFSETFROM:-0400
TZOFFSETTO:-0500
END:STANDARD
BEGIN:DAYLIGHT
DTSTART:20240310T010000
TZOFFSETFROM:-0500
TZOFFSETTO:-0400
END:DAYLIGHT
BEGIN:STANDARD
DTSTART:20241103T010000
TZOFFSETFROM:-0400
TZOFFSETTO:-0500
END:STANDARD
END:VTIMEZONE
BEGIN:VTIMEZONE
TZID:UTC
BEGIN:STANDARD
DTSTART:20250727T163317
TZOFFSETFROM:+0000
TZOFFSETTO:+0000
END:STANDARD
END:VTIMEZONE
BEGIN:VEVENT
UID:69ea49cd43499
DTSTAMP:20260423T163317Z
SUMMARY:Beach Retreat: Finance Business Partnering: Techniques for Effectiv
 e and Impactful Communication
LOCATION:9100 Coastal Hwy\, Ocean City\, Worcester County\, Maryland 21842
URL:https://macpa.org/catalog/events/20066771-beach-retreat-finance-busines
 s-partnering-techniques-for-effective-and-impactful-communication-2024-18-
 06
DTSTART;TZID=America/New_York:20240618T073000
DTEND;TZID=America/New_York:20240618T110000
END:VEVENT
END:VCALENDAR