BEGIN:VCALENDAR
VERSION:2.0
PRODID:spatie/icalendar-generator
NAME:Beach Retreat: Retirement Planning Issues: Where We Stand Now
X-WR-CALNAME:Beach Retreat: Retirement Planning Issues: Where We Stand Now
BEGIN:VTIMEZONE
TZID:America/New_York
BEGIN:STANDARD
DTSTART:20231105T010000
TZOFFSETFROM:-0400
TZOFFSETTO:-0500
END:STANDARD
BEGIN:DAYLIGHT
DTSTART:20240310T010000
TZOFFSETFROM:-0500
TZOFFSETTO:-0400
END:DAYLIGHT
BEGIN:STANDARD
DTSTART:20241103T010000
TZOFFSETFROM:-0400
TZOFFSETTO:-0500
END:STANDARD
END:VTIMEZONE
BEGIN:VTIMEZONE
TZID:UTC
BEGIN:STANDARD
DTSTART:20250727T163440
TZOFFSETFROM:+0000
TZOFFSETTO:+0000
END:STANDARD
END:VTIMEZONE
BEGIN:VEVENT
UID:69ea4a2088dfb
DTSTAMP:20260423T163440Z
SUMMARY:Beach Retreat: Retirement Planning Issues: Where We Stand Now
LOCATION:9100 Coastal Hwy\, Ocean City\, Worcester County\, Maryland 21842
URL:https://macpa.org/catalog/events/20066712-beach-retreat-retirement-plan
 ning-issues-where-we-stand-now-2024-19-06
DTSTART;TZID=America/New_York:20240619T120000
DTEND;TZID=America/New_York:20240619T153000
END:VEVENT
END:VCALENDAR