BEGIN:VCALENDAR
VERSION:2.0
PRODID:spatie/icalendar-generator
NAME:Beach Retreat:  Seeing Beyond the Numbers: Financial Statement Analysi
 s for CFOs & Controllers
X-WR-CALNAME:Beach Retreat:  Seeing Beyond the Numbers: Financial Statement
  Analysis for CFOs & Controllers
BEGIN:VTIMEZONE
TZID:America/New_York
BEGIN:STANDARD
DTSTART:20231105T010000
TZOFFSETFROM:-0400
TZOFFSETTO:-0500
END:STANDARD
BEGIN:DAYLIGHT
DTSTART:20240310T010000
TZOFFSETFROM:-0500
TZOFFSETTO:-0400
END:DAYLIGHT
BEGIN:STANDARD
DTSTART:20241103T010000
TZOFFSETFROM:-0400
TZOFFSETTO:-0500
END:STANDARD
END:VTIMEZONE
BEGIN:VTIMEZONE
TZID:UTC
BEGIN:STANDARD
DTSTART:20250727T163329
TZOFFSETFROM:+0000
TZOFFSETTO:+0000
END:STANDARD
END:VTIMEZONE
BEGIN:VEVENT
UID:69ea49d9eec10
DTSTAMP:20260423T163329Z
SUMMARY:Beach Retreat:  Seeing Beyond the Numbers: Financial Statement Anal
 ysis for CFOs & Controllers
LOCATION:9100 Coastal Hwy\, Ocean City\, Worcester County\, Maryland 21842
URL:https://macpa.org/catalog/events/20066710-beach-retreat-seeing-beyond-t
 he-numbers-financial-statement-analysis-for-cfos-controllers-2024-18-06
DTSTART;TZID=America/New_York:20240618T120000
DTEND;TZID=America/New_York:20240618T153000
END:VEVENT
END:VCALENDAR