BEGIN:VCALENDAR
VERSION:2.0
PRODID:spatie/icalendar-generator
NAME:Beach Retreat:  Building a Better Team: Being a Better Manager & Teamm
 ate
X-WR-CALNAME:Beach Retreat:  Building a Better Team: Being a Better Manager
  & Teammate
BEGIN:VTIMEZONE
TZID:America/New_York
BEGIN:STANDARD
DTSTART:20231105T010000
TZOFFSETFROM:-0400
TZOFFSETTO:-0500
END:STANDARD
BEGIN:DAYLIGHT
DTSTART:20240310T010000
TZOFFSETFROM:-0500
TZOFFSETTO:-0400
END:DAYLIGHT
BEGIN:STANDARD
DTSTART:20241103T010000
TZOFFSETFROM:-0400
TZOFFSETTO:-0500
END:STANDARD
END:VTIMEZONE
BEGIN:VTIMEZONE
TZID:UTC
BEGIN:STANDARD
DTSTART:20250727T163257
TZOFFSETFROM:+0000
TZOFFSETTO:+0000
END:STANDARD
END:VTIMEZONE
BEGIN:VEVENT
UID:69ea49b9359af
DTSTAMP:20260423T163257Z
SUMMARY:Beach Retreat:  Building a Better Team: Being a Better Manager & Te
 ammate
LOCATION:9100 Coastal Hwy\, Ocean City\, Worcester County\, Maryland 21842
URL:https://macpa.org/catalog/events/20066642-beach-retreat-building-a-bett
 er-team-being-a-better-manager-teammate-2024-18-06
DTSTART;TZID=America/New_York:20240618T073000
DTEND;TZID=America/New_York:20240618T110000
END:VEVENT
END:VCALENDAR