BEGIN:VCALENDAR
VERSION:2.0
PRODID:spatie/icalendar-generator
NAME:Beach Retreat:  A Culture of Regulatory Ethics: Adaptive Ethics for To
 day’s World
X-WR-CALNAME:Beach Retreat:  A Culture of Regulatory Ethics: Adaptive Ethic
 s for Today’s World
BEGIN:VTIMEZONE
TZID:America/New_York
BEGIN:STANDARD
DTSTART:20231105T010000
TZOFFSETFROM:-0400
TZOFFSETTO:-0500
END:STANDARD
BEGIN:DAYLIGHT
DTSTART:20240310T010000
TZOFFSETFROM:-0500
TZOFFSETTO:-0400
END:DAYLIGHT
BEGIN:STANDARD
DTSTART:20241103T010000
TZOFFSETFROM:-0400
TZOFFSETTO:-0500
END:STANDARD
END:VTIMEZONE
BEGIN:VTIMEZONE
TZID:UTC
BEGIN:STANDARD
DTSTART:20250727T163442
TZOFFSETFROM:+0000
TZOFFSETTO:+0000
END:STANDARD
END:VTIMEZONE
BEGIN:VEVENT
UID:69ea4a22e9f99
DTSTAMP:20260423T163442Z
SUMMARY:Beach Retreat:  A Culture of Regulatory Ethics: Adaptive Ethics for
  Today’s World
LOCATION:9100 Coastal Hwy\, Ocean City\, Worcester County\, Maryland 21842
URL:https://macpa.org/catalog/events/20066609-beach-retreat-a-culture-of-re
 gulatory-ethics-adaptive-ethics-for-todays-world-2024-17-06
DTSTART;TZID=America/New_York:20240617T073000
DTEND;TZID=America/New_York:20240617T110000
END:VEVENT
END:VCALENDAR