BEGIN:VCALENDAR
VERSION:2.0
PRODID:spatie/icalendar-generator
NAME:2024 Advanced Tax Institute Day 3 - Estate Planning Issues
X-WR-CALNAME:2024 Advanced Tax Institute Day 3 - Estate Planning Issues
BEGIN:VTIMEZONE
TZID:America/New_York
BEGIN:DAYLIGHT
DTSTART:20240310T010000
TZOFFSETFROM:-0500
TZOFFSETTO:-0400
END:DAYLIGHT
BEGIN:STANDARD
DTSTART:20241103T010000
TZOFFSETFROM:-0400
TZOFFSETTO:-0500
END:STANDARD
BEGIN:DAYLIGHT
DTSTART:20250309T010000
TZOFFSETFROM:-0500
TZOFFSETTO:-0400
END:DAYLIGHT
END:VTIMEZONE
BEGIN:VTIMEZONE
TZID:UTC
BEGIN:STANDARD
DTSTART:20250727T105450
TZOFFSETFROM:+0000
TZOFFSETTO:+0000
END:STANDARD
END:VTIMEZONE
BEGIN:VEVENT
UID:69e9fa7af3abd
DTSTAMP:20260423T105450Z
SUMMARY:2024 Advanced Tax Institute Day 3 - Estate Planning Issues
LOCATION:6817 Dogwood Rd\, Woodlawn\, Baltimore County\, Maryland 21244
URL:https://macpa.org/catalog/events/20054475-2024-advanced-tax-institute-d
 ay-3-estate-planning-issues-2024-20-11
DTSTART;TZID=America/New_York:20241120T083000
DTEND;TZID=America/New_York:20241120T163000
END:VEVENT
END:VCALENDAR