BEGIN:VCALENDAR
VERSION:2.0
PRODID:spatie/icalendar-generator
NAME:2024 Advanced Tax Institute Day 1 - Current Tax Issues and Business Ta
 x Update
X-WR-CALNAME:2024 Advanced Tax Institute Day 1 - Current Tax Issues and Bus
 iness Tax Update
BEGIN:VTIMEZONE
TZID:America/New_York
BEGIN:DAYLIGHT
DTSTART:20240310T010000
TZOFFSETFROM:-0500
TZOFFSETTO:-0400
END:DAYLIGHT
BEGIN:STANDARD
DTSTART:20241103T010000
TZOFFSETFROM:-0400
TZOFFSETTO:-0500
END:STANDARD
BEGIN:DAYLIGHT
DTSTART:20250309T010000
TZOFFSETFROM:-0500
TZOFFSETTO:-0400
END:DAYLIGHT
END:VTIMEZONE
BEGIN:VTIMEZONE
TZID:UTC
BEGIN:STANDARD
DTSTART:20250727T105557
TZOFFSETFROM:+0000
TZOFFSETTO:+0000
END:STANDARD
END:VTIMEZONE
BEGIN:VEVENT
UID:69e9fabd07930
DTSTAMP:20260423T105557Z
SUMMARY:2024 Advanced Tax Institute Day 1 - Current Tax Issues and Business
  Tax Update
LOCATION:6817 Dogwood Rd\, Woodlawn\, Baltimore County\, Maryland 21244
URL:https://macpa.org/catalog/events/20054461-2024-advanced-tax-institute-d
 ay-1-current-tax-issues-and-business-tax-update-2024-18-11
DTSTART;TZID=America/New_York:20241118T083000
DTEND;TZID=America/New_York:20241118T164500
END:VEVENT
END:VCALENDAR