BEGIN:VCALENDAR
VERSION:2.0
PRODID:spatie/icalendar-generator
NAME:Don Farmer’s 2024 Federal Tax Update
X-WR-CALNAME:Don Farmer’s 2024 Federal Tax Update
BEGIN:VTIMEZONE
TZID:America/New_York
BEGIN:STANDARD
DTSTART:20241103T010000
TZOFFSETFROM:-0400
TZOFFSETTO:-0500
END:STANDARD
BEGIN:DAYLIGHT
DTSTART:20250309T010000
TZOFFSETFROM:-0500
TZOFFSETTO:-0400
END:DAYLIGHT
END:VTIMEZONE
BEGIN:VTIMEZONE
TZID:UTC
BEGIN:STANDARD
DTSTART:20250727T150330
TZOFFSETFROM:+0000
TZOFFSETTO:+0000
END:STANDARD
END:VTIMEZONE
BEGIN:VEVENT
UID:69ea34c24a9e3
DTSTAMP:20260423T150330Z
SUMMARY:Don Farmer’s 2024 Federal Tax Update
LOCATION: 
URL:https://macpa.org/catalog/events/20052238-don-farmers-2024-federal-tax-
 update-2024-12-12
DTSTART;TZID=America/New_York:20241212T080000
DTEND;TZID=America/New_York:20241212T160000
END:VEVENT
END:VCALENDAR