BEGIN:VCALENDAR
VERSION:2.0
PRODID:spatie/icalendar-generator
NAME:Don Farmer’s 2024 Individual Income Tax Workshop
X-WR-CALNAME:Don Farmer’s 2024 Individual Income Tax Workshop
BEGIN:VTIMEZONE
TZID:America/New_York
BEGIN:DAYLIGHT
DTSTART:20240310T010000
TZOFFSETFROM:-0500
TZOFFSETTO:-0400
END:DAYLIGHT
BEGIN:STANDARD
DTSTART:20241103T010000
TZOFFSETFROM:-0400
TZOFFSETTO:-0500
END:STANDARD
BEGIN:DAYLIGHT
DTSTART:20250309T010000
TZOFFSETFROM:-0500
TZOFFSETTO:-0400
END:DAYLIGHT
END:VTIMEZONE
BEGIN:VTIMEZONE
TZID:UTC
BEGIN:STANDARD
DTSTART:20250727T150236
TZOFFSETFROM:+0000
TZOFFSETTO:+0000
END:STANDARD
END:VTIMEZONE
BEGIN:VEVENT
UID:69ea348ce6e8f
DTSTAMP:20260423T150236Z
SUMMARY:Don Farmer’s 2024 Individual Income Tax Workshop
LOCATION:6817 Dogwood Rd\, Woodlawn\, Baltimore County\, Maryland 21244
URL:https://macpa.org/catalog/events/20052234-don-farmers-2024-individual-i
 ncome-tax-workshop-2024-20-11
DTSTART;TZID=America/New_York:20241120T080000
DTEND;TZID=America/New_York:20241120T160000
END:VEVENT
END:VCALENDAR