BEGIN:VCALENDAR
VERSION:2.0
PRODID:spatie/icalendar-generator
NAME:Don Farmer’s 2024 Corporate/Business Income Tax Workshop
X-WR-CALNAME:Don Farmer’s 2024 Corporate/Business Income Tax Workshop
BEGIN:VTIMEZONE
TZID:America/New_York
BEGIN:DAYLIGHT
DTSTART:20240310T010000
TZOFFSETFROM:-0500
TZOFFSETTO:-0400
END:DAYLIGHT
BEGIN:STANDARD
DTSTART:20241103T010000
TZOFFSETFROM:-0400
TZOFFSETTO:-0500
END:STANDARD
BEGIN:DAYLIGHT
DTSTART:20250309T010000
TZOFFSETFROM:-0500
TZOFFSETTO:-0400
END:DAYLIGHT
END:VTIMEZONE
BEGIN:VTIMEZONE
TZID:UTC
BEGIN:STANDARD
DTSTART:20250727T150511
TZOFFSETFROM:+0000
TZOFFSETTO:+0000
END:STANDARD
END:VTIMEZONE
BEGIN:VEVENT
UID:69ea35275b60a
DTSTAMP:20260423T150511Z
SUMMARY:Don Farmer’s 2024 Corporate/Business Income Tax Workshop
LOCATION:6817 Dogwood Rd\, Woodlawn\, Baltimore County\, Maryland 21244
URL:https://macpa.org/catalog/events/20052229-don-farmers-2024-corporatebus
 iness-income-tax-workshop-2024-21-11
DTSTART;TZID=America/New_York:20241121T080000
DTEND;TZID=America/New_York:20241121T161500
END:VEVENT
END:VCALENDAR