BEGIN:VCALENDAR
VERSION:2.0
PRODID:spatie/icalendar-generator
NAME:2024 Government & Not-for-Profit Conference - Day 3 (Virtual Only)
X-WR-CALNAME:2024 Government & Not-for-Profit Conference - Day 3 (Virtual O
 nly)
BEGIN:VTIMEZONE
TZID:America/New_York
BEGIN:STANDARD
DTSTART:20231105T010000
TZOFFSETFROM:-0400
TZOFFSETTO:-0500
END:STANDARD
BEGIN:DAYLIGHT
DTSTART:20240310T010000
TZOFFSETFROM:-0500
TZOFFSETTO:-0400
END:DAYLIGHT
BEGIN:STANDARD
DTSTART:20241103T010000
TZOFFSETFROM:-0400
TZOFFSETTO:-0500
END:STANDARD
END:VTIMEZONE
BEGIN:VTIMEZONE
TZID:UTC
BEGIN:STANDARD
DTSTART:20250727T150956
TZOFFSETFROM:+0000
TZOFFSETTO:+0000
END:STANDARD
END:VTIMEZONE
BEGIN:VEVENT
UID:69ea364445897
DTSTAMP:20260423T150956Z
SUMMARY:1.  Understanding the Evolving Requirement for Single Audit
LOCATION: 
URL:https://macpa.org/catalog/events/19956285-2024-government-not-for-profi
 t-conference-day-3-virtual-only-2024-02-05
DTSTART;TZID=America/New_York:20240502T080000
DTEND;TZID=America/New_York:20240502T090000
END:VEVENT
BEGIN:VEVENT
UID:69ea36444732f
DTSTAMP:20260423T150956Z
SUMMARY:2.  Internal Controls – an Overview
LOCATION: 
URL:https://macpa.org/catalog/events/19956285-2024-government-not-for-profi
 t-conference-day-3-virtual-only-2024-02-05
DTSTART;TZID=America/New_York:20240502T080000
DTEND;TZID=America/New_York:20240502T090000
END:VEVENT
BEGIN:VEVENT
UID:69ea364448058
DTSTAMP:20260423T150956Z
SUMMARY:3.  SAS 145
LOCATION: 
URL:https://macpa.org/catalog/events/19956285-2024-government-not-for-profi
 t-conference-day-3-virtual-only-2024-02-05
DTSTART;TZID=America/New_York:20240502T080000
DTEND;TZID=America/New_York:20240502T090000
END:VEVENT
BEGIN:VEVENT
UID:69ea364448ce1
DTSTAMP:20260423T150956Z
SUMMARY:4.   Portfolio Management For Nonprofits – Governance\, Investmen
 t Policy\, and Investing
LOCATION: 
URL:https://macpa.org/catalog/events/19956285-2024-government-not-for-profi
 t-conference-day-3-virtual-only-2024-02-05
DTSTART;TZID=America/New_York:20240502T080000
DTEND;TZID=America/New_York:20240502T090000
END:VEVENT
BEGIN:VEVENT
UID:69ea364449946
DTSTAMP:20260423T150956Z
SUMMARY:Break
LOCATION: 
URL:https://macpa.org/catalog/events/19956285-2024-government-not-for-profi
 t-conference-day-3-virtual-only-2024-02-05
DTSTART;TZID=America/New_York:20240502T090000
DTEND;TZID=America/New_York:20240502T091000
END:VEVENT
BEGIN:VEVENT
UID:69ea36444a5b5
DTSTAMP:20260423T150956Z
SUMMARY:5. Unraveling the Complexity: Navigating FASB’s Lease Accounting 
 Standard ASU 2016-02 (Topic 842)
LOCATION: 
URL:https://macpa.org/catalog/events/19956285-2024-government-not-for-profi
 t-conference-day-3-virtual-only-2024-02-05
DTSTART;TZID=America/New_York:20240502T091000
DTEND;TZID=America/New_York:20240502T101000
END:VEVENT
BEGIN:VEVENT
UID:69ea36444b202
DTSTAMP:20260423T150956Z
SUMMARY:6.  GASB/FASB Update
LOCATION: 
URL:https://macpa.org/catalog/events/19956285-2024-government-not-for-profi
 t-conference-day-3-virtual-only-2024-02-05
DTSTART;TZID=America/New_York:20240502T091000
DTEND;TZID=America/New_York:20240502T101000
END:VEVENT
BEGIN:VEVENT
UID:69ea36444bf87
DTSTAMP:20260423T150956Z
SUMMARY:7. Building Diversity in Accounting: Strategies for a More Inclusiv
 e Profession
LOCATION: 
URL:https://macpa.org/catalog/events/19956285-2024-government-not-for-profi
 t-conference-day-3-virtual-only-2024-02-05
DTSTART;TZID=America/New_York:20240502T091000
DTEND;TZID=America/New_York:20240502T101000
END:VEVENT
BEGIN:VEVENT
UID:69ea36444cc03
DTSTAMP:20260423T150956Z
SUMMARY:Break
LOCATION: 
URL:https://macpa.org/catalog/events/19956285-2024-government-not-for-profi
 t-conference-day-3-virtual-only-2024-02-05
DTSTART;TZID=America/New_York:20240502T101000
DTEND;TZID=America/New_York:20240502T102000
END:VEVENT
BEGIN:VEVENT
UID:69ea36444d85f
DTSTAMP:20260423T150956Z
SUMMARY:8.  Post Federal Awards requirements and SEFA Prep - What You Need 
 to Know
LOCATION: 
URL:https://macpa.org/catalog/events/19956285-2024-government-not-for-profi
 t-conference-day-3-virtual-only-2024-02-05
DTSTART;TZID=America/New_York:20240502T102000
DTEND;TZID=America/New_York:20240502T120000
END:VEVENT
BEGIN:VEVENT
UID:69ea36444e4c9
DTSTAMP:20260423T150956Z
SUMMARY:9. Beware the “Artificial CPA”? Artificial Intelligence\, Ethic
 s and You
LOCATION: 
URL:https://macpa.org/catalog/events/19956285-2024-government-not-for-profi
 t-conference-day-3-virtual-only-2024-02-05
DTSTART;TZID=America/New_York:20240502T102000
DTEND;TZID=America/New_York:20240502T120000
END:VEVENT
END:VCALENDAR