BEGIN:VCALENDAR
VERSION:2.0
PRODID:spatie/icalendar-generator
NAME:2024 Government & Not-for-Profit Conference - Day 2 (Virtual Only)
X-WR-CALNAME:2024 Government & Not-for-Profit Conference - Day 2 (Virtual O
 nly)
BEGIN:VTIMEZONE
TZID:America/New_York
BEGIN:STANDARD
DTSTART:20231105T010000
TZOFFSETFROM:-0400
TZOFFSETTO:-0500
END:STANDARD
BEGIN:DAYLIGHT
DTSTART:20240310T010000
TZOFFSETFROM:-0500
TZOFFSETTO:-0400
END:DAYLIGHT
END:VTIMEZONE
BEGIN:VTIMEZONE
TZID:UTC
BEGIN:STANDARD
DTSTART:20250727T150439
TZOFFSETFROM:+0000
TZOFFSETTO:+0000
END:STANDARD
END:VTIMEZONE
BEGIN:VEVENT
UID:69ea35076be7e
DTSTAMP:20260423T150439Z
SUMMARY:1. Navigating the Digital Horizon\, Cybersecurity\, Technology\, an
 d AI in the Government and Nonprofit Sector
LOCATION: 
URL:https://macpa.org/catalog/events/19956284-2024-government-not-for-profi
 t-conference-day-2-virtual-only-2024-01-05
DTSTART;TZID=America/New_York:20240501T080000
DTEND;TZID=America/New_York:20240501T090000
END:VEVENT
BEGIN:VEVENT
UID:69ea35076db4a
DTSTAMP:20260423T150439Z
SUMMARY:2. Unclaimed Property Audits
LOCATION: 
URL:https://macpa.org/catalog/events/19956284-2024-government-not-for-profi
 t-conference-day-2-virtual-only-2024-01-05
DTSTART;TZID=America/New_York:20240501T080000
DTEND;TZID=America/New_York:20240501T090000
END:VEVENT
BEGIN:VEVENT
UID:69ea35076eb2a
DTSTAMP:20260423T150439Z
SUMMARY:3. GASB Past\, Present\, and Future: Lessons Learned from GASB 87 a
 nd 96 and Looking Ahead to the Financial Reporting Model
LOCATION: 
URL:https://macpa.org/catalog/events/19956284-2024-government-not-for-profi
 t-conference-day-2-virtual-only-2024-01-05
DTSTART;TZID=America/New_York:20240501T080000
DTEND;TZID=America/New_York:20240501T090000
END:VEVENT
BEGIN:VEVENT
UID:69ea35076f90f
DTSTAMP:20260423T150439Z
SUMMARY:Break
LOCATION: 
URL:https://macpa.org/catalog/events/19956284-2024-government-not-for-profi
 t-conference-day-2-virtual-only-2024-01-05
DTSTART;TZID=America/New_York:20240501T090000
DTEND;TZID=America/New_York:20240501T091000
END:VEVENT
BEGIN:VEVENT
UID:69ea35077060d
DTSTAMP:20260423T150439Z
SUMMARY:4.  Latest Developments in Higher Education
LOCATION: 
URL:https://macpa.org/catalog/events/19956284-2024-government-not-for-profi
 t-conference-day-2-virtual-only-2024-01-05
DTSTART;TZID=America/New_York:20240501T091000
DTEND;TZID=America/New_York:20240501T102000
END:VEVENT
BEGIN:VEVENT
UID:69ea3507712c3
DTSTAMP:20260423T150439Z
SUMMARY:5.  CECL What's New and Different
LOCATION: 
URL:https://macpa.org/catalog/events/19956284-2024-government-not-for-profi
 t-conference-day-2-virtual-only-2024-01-05
DTSTART;TZID=America/New_York:20240501T091000
DTEND;TZID=America/New_York:20240501T102000
END:VEVENT
BEGIN:VEVENT
UID:69ea35077201e
DTSTAMP:20260423T150439Z
SUMMARY:7. How to build an Indirect Rate for Nonprofits under the Uniform G
 uidance.
LOCATION: 
URL:https://macpa.org/catalog/events/19956284-2024-government-not-for-profi
 t-conference-day-2-virtual-only-2024-01-05
DTSTART;TZID=America/New_York:20240501T103500
DTEND;TZID=America/New_York:20240501T115000
END:VEVENT
BEGIN:VEVENT
UID:69ea350772cee
DTSTAMP:20260423T150439Z
SUMMARY:8.  Form 990:  The Schedules
LOCATION: 
URL:https://macpa.org/catalog/events/19956284-2024-government-not-for-profi
 t-conference-day-2-virtual-only-2024-01-05
DTSTART;TZID=America/New_York:20240501T103500
DTEND;TZID=America/New_York:20240501T115000
END:VEVENT
BEGIN:VEVENT
UID:69ea3507739d6
DTSTAMP:20260423T150439Z
SUMMARY:Break
LOCATION: 
URL:https://macpa.org/catalog/events/19956284-2024-government-not-for-profi
 t-conference-day-2-virtual-only-2024-01-05
DTSTART;TZID=America/New_York:20240501T102000
DTEND;TZID=America/New_York:20240501T103500
END:VEVENT
BEGIN:VEVENT
UID:69ea35077463e
DTSTAMP:20260423T150439Z
SUMMARY:6.  What’s the Future for the Artificial Intelligence CPA? Perils
  and Pearls for the Profession
LOCATION: 
URL:https://macpa.org/catalog/events/19956284-2024-government-not-for-profi
 t-conference-day-2-virtual-only-2024-01-05
DTSTART;TZID=America/New_York:20240501T091000
DTEND;TZID=America/New_York:20240501T102000
END:VEVENT
END:VCALENDAR