BEGIN:VCALENDAR
VERSION:2.0
PRODID:spatie/icalendar-generator
NAME:2023 Advanced Tax Institute - Day 3  - Real Estate & Partnerships
X-WR-CALNAME:2023 Advanced Tax Institute - Day 3  - Real Estate & Partnersh
 ips
BEGIN:VTIMEZONE
TZID:America/New_York
BEGIN:DAYLIGHT
DTSTART:20230312T010000
TZOFFSETFROM:-0500
TZOFFSETTO:-0400
END:DAYLIGHT
BEGIN:STANDARD
DTSTART:20231105T010000
TZOFFSETFROM:-0400
TZOFFSETTO:-0500
END:STANDARD
BEGIN:DAYLIGHT
DTSTART:20240310T010000
TZOFFSETFROM:-0500
TZOFFSETTO:-0400
END:DAYLIGHT
END:VTIMEZONE
BEGIN:VTIMEZONE
TZID:UTC
BEGIN:STANDARD
DTSTART:20250727T105232
TZOFFSETFROM:+0000
TZOFFSETTO:+0000
END:STANDARD
END:VTIMEZONE
BEGIN:VEVENT
UID:69e9f9f057f97
DTSTAMP:20260423T105232Z
SUMMARY:2023 Advanced Tax Institute - Day 3  - Real Estate & Partnerships
LOCATION:6817 Dogwood Rd\, Woodlawn\, Baltimore County\, Maryland 21244
URL:https://macpa.org/catalog/events/19774960-2023-advanced-tax-institute-d
 ay-3-real-estate-partnerships-2023-08-11
DTSTART;TZID=America/New_York:20231108T083000
DTEND;TZID=America/New_York:20231108T164500
END:VEVENT
END:VCALENDAR