BEGIN:VCALENDAR
VERSION:2.0
PRODID:spatie/icalendar-generator
NAME:2023 Advanced Tax Institute - Day 2 - Estate Planning Issues
X-WR-CALNAME:2023 Advanced Tax Institute - Day 2 - Estate Planning Issues
BEGIN:VTIMEZONE
TZID:America/New_York
BEGIN:DAYLIGHT
DTSTART:20230312T010000
TZOFFSETFROM:-0500
TZOFFSETTO:-0400
END:DAYLIGHT
BEGIN:STANDARD
DTSTART:20231105T010000
TZOFFSETFROM:-0400
TZOFFSETTO:-0500
END:STANDARD
BEGIN:DAYLIGHT
DTSTART:20240310T010000
TZOFFSETFROM:-0500
TZOFFSETTO:-0400
END:DAYLIGHT
END:VTIMEZONE
BEGIN:VTIMEZONE
TZID:UTC
BEGIN:STANDARD
DTSTART:20250727T110511
TZOFFSETFROM:+0000
TZOFFSETTO:+0000
END:STANDARD
END:VTIMEZONE
BEGIN:VEVENT
UID:69e9fce7acc2a
DTSTAMP:20260423T110511Z
SUMMARY:2023 Advanced Tax Institute - Day 2 - Estate Planning Issues
LOCATION:6817 Dogwood Rd\, Woodlawn\, Baltimore County\, Maryland 21244
URL:https://macpa.org/catalog/events/19774889-2023-advanced-tax-institute-d
 ay-2-estate-planning-issues-2023-07-11
DTSTART;TZID=America/New_York:20231107T083000
DTEND;TZID=America/New_York:20231107T161500
END:VEVENT
END:VCALENDAR