BEGIN:VCALENDAR
VERSION:2.0
PRODID:spatie/icalendar-generator
NAME:2023 Advanced Tax Institute - Day 1 - Current Tax Issues and Business 
 Tax Update
X-WR-CALNAME:2023 Advanced Tax Institute - Day 1 - Current Tax Issues and B
 usiness Tax Update
BEGIN:VTIMEZONE
TZID:America/New_York
BEGIN:DAYLIGHT
DTSTART:20230312T010000
TZOFFSETFROM:-0500
TZOFFSETTO:-0400
END:DAYLIGHT
BEGIN:STANDARD
DTSTART:20231105T010000
TZOFFSETFROM:-0400
TZOFFSETTO:-0500
END:STANDARD
BEGIN:DAYLIGHT
DTSTART:20240310T010000
TZOFFSETFROM:-0500
TZOFFSETTO:-0400
END:DAYLIGHT
END:VTIMEZONE
BEGIN:VTIMEZONE
TZID:UTC
BEGIN:STANDARD
DTSTART:20250727T105723
TZOFFSETFROM:+0000
TZOFFSETTO:+0000
END:STANDARD
END:VTIMEZONE
BEGIN:VEVENT
UID:69e9fb13366e5
DTSTAMP:20260423T105723Z
SUMMARY:2023 Advanced Tax Institute - Day 1 - Current Tax Issues and Busine
 ss Tax Update
LOCATION:6817 Dogwood Rd\, Woodlawn\, Baltimore County\, Maryland 21244
URL:https://macpa.org/catalog/events/19466925-2023-advanced-tax-institute-d
 ay-1-current-tax-issues-and-business-tax-update-2023-06-11
DTSTART;TZID=America/New_York:20231106T080000
DTEND;TZID=America/New_York:20231106T160000
END:VEVENT
END:VCALENDAR