BEGIN:VCALENDAR
VERSION:2.0
PRODID:spatie/icalendar-generator
NAME:Best Federal Tax Update   (in collaboration with the FICPA)
X-WR-CALNAME:Best Federal Tax Update   (in collaboration with the FICPA)
BEGIN:VTIMEZONE
TZID:America/New_York
BEGIN:DAYLIGHT
DTSTART:20230312T010000
TZOFFSETFROM:-0500
TZOFFSETTO:-0400
END:DAYLIGHT
BEGIN:STANDARD
DTSTART:20231105T010000
TZOFFSETFROM:-0400
TZOFFSETTO:-0500
END:STANDARD
BEGIN:DAYLIGHT
DTSTART:20240310T010000
TZOFFSETFROM:-0500
TZOFFSETTO:-0400
END:DAYLIGHT
END:VTIMEZONE
BEGIN:VTIMEZONE
TZID:UTC
BEGIN:STANDARD
DTSTART:20250729T102756
TZOFFSETFROM:+0000
TZOFFSETTO:+0000
END:STANDARD
END:VTIMEZONE
BEGIN:VEVENT
UID:69ec972ccc506
DTSTAMP:20260425T102756Z
SUMMARY:Best Federal Tax Update   (in collaboration with the FICPA)
LOCATION: 
URL:https://macpa.org/catalog/events/107447-best-federal-tax-update-in-coll
 aboration-with-the-ficpa-2023-03-11
DTSTART;TZID=America/New_York:20231103T083000
DTEND;TZID=America/New_York:20231103T160000
END:VEVENT
END:VCALENDAR