BEGIN:VCALENDAR
VERSION:2.0
PRODID:spatie/icalendar-generator
NAME:Guide and Update to Compilation\, Reviews and Preparations  (in collab
 oration with the FICPA)
X-WR-CALNAME:Guide and Update to Compilation\, Reviews and Preparations  (i
 n collaboration with the FICPA)
BEGIN:VTIMEZONE
TZID:America/New_York
BEGIN:STANDARD
DTSTART:20221106T010000
TZOFFSETFROM:-0400
TZOFFSETTO:-0500
END:STANDARD
BEGIN:DAYLIGHT
DTSTART:20230312T010000
TZOFFSETFROM:-0500
TZOFFSETTO:-0400
END:DAYLIGHT
BEGIN:STANDARD
DTSTART:20231105T010000
TZOFFSETFROM:-0400
TZOFFSETTO:-0500
END:STANDARD
END:VTIMEZONE
BEGIN:VTIMEZONE
TZID:UTC
BEGIN:STANDARD
DTSTART:20250725T200613
TZOFFSETFROM:+0000
TZOFFSETTO:+0000
END:STANDARD
END:VTIMEZONE
BEGIN:VEVENT
UID:69e7d8b537a3d
DTSTAMP:20260421T200613Z
SUMMARY:Guide and Update to Compilation\, Reviews and Preparations  (in col
 laboration with the FICPA)
LOCATION: 
URL:https://macpa.org/catalog/events/107433-guide-and-update-to-compilation
 -reviews-and-preparations-in-collaboration-with-the-ficpa-2023-28-06
DTSTART;TZID=America/New_York:20230628T083000
DTEND;TZID=America/New_York:20230628T120000
END:VEVENT
END:VCALENDAR