BEGIN:VCALENDAR
VERSION:2.0
PRODID:spatie/icalendar-generator
NAME:Four for Fall Seminar Series: The Tax Aspects of Cryptocurrency
X-WR-CALNAME:Four for Fall Seminar Series: The Tax Aspects of Cryptocurrenc
 y
BEGIN:VTIMEZONE
TZID:America/New_York
BEGIN:DAYLIGHT
DTSTART:20230312T010000
TZOFFSETFROM:-0500
TZOFFSETTO:-0400
END:DAYLIGHT
BEGIN:STANDARD
DTSTART:20231105T010000
TZOFFSETFROM:-0400
TZOFFSETTO:-0500
END:STANDARD
BEGIN:DAYLIGHT
DTSTART:20240310T010000
TZOFFSETFROM:-0500
TZOFFSETTO:-0400
END:DAYLIGHT
END:VTIMEZONE
BEGIN:VTIMEZONE
TZID:UTC
BEGIN:STANDARD
DTSTART:20250727T110023
TZOFFSETFROM:+0000
TZOFFSETTO:+0000
END:STANDARD
END:VTIMEZONE
BEGIN:VEVENT
UID:69e9fbc77f248
DTSTAMP:20260423T110023Z
SUMMARY:Four for Fall Seminar Series: The Tax Aspects of Cryptocurrency
LOCATION: 
URL:https://macpa.org/catalog/events/107352-four-for-fall-seminar-series-th
 e-tax-aspects-of-cryptocurrency-2023-28-11
DTSTART;TZID=America/New_York:20231128T080000
DTEND;TZID=America/New_York:20231128T113000
END:VEVENT
END:VCALENDAR