BEGIN:VCALENDAR
VERSION:2.0
PRODID:spatie/icalendar-generator
NAME:Single Audit Fundamentals Part 4: Overview of Sampling and Single Audi
 t Reporting Requirements
X-WR-CALNAME:Single Audit Fundamentals Part 4: Overview of Sampling and Sin
 gle Audit Reporting Requirements
BEGIN:VTIMEZONE
TZID:America/New_York
BEGIN:STANDARD
DTSTART:20221106T010000
TZOFFSETFROM:-0400
TZOFFSETTO:-0500
END:STANDARD
BEGIN:DAYLIGHT
DTSTART:20230312T010000
TZOFFSETFROM:-0500
TZOFFSETTO:-0400
END:DAYLIGHT
BEGIN:STANDARD
DTSTART:20231105T010000
TZOFFSETFROM:-0400
TZOFFSETTO:-0500
END:STANDARD
END:VTIMEZONE
BEGIN:VTIMEZONE
TZID:UTC
BEGIN:STANDARD
DTSTART:20250727T233654
TZOFFSETFROM:+0000
TZOFFSETTO:+0000
END:STANDARD
END:VTIMEZONE
BEGIN:VEVENT
UID:69eaad162b8de
DTSTAMP:20260423T233654Z
SUMMARY:Single Audit Fundamentals Part 4: Overview of Sampling and Single A
 udit Reporting Requirements
LOCATION: 
URL:https://macpa.org/catalog/events/107280-single-audit-fundamentals-part-
 4-overview-of-sampling-and-single-audit-reporting-requirements-2023-21-07
DTSTART;TZID=America/New_York:20230721T140000
DTEND;TZID=America/New_York:20230721T160000
END:VEVENT
END:VCALENDAR