BEGIN:VCALENDAR
VERSION:2.0
PRODID:spatie/icalendar-generator
NAME:Four for Fall Seminar Series: Tax Planning for Small Businesses
X-WR-CALNAME:Four for Fall Seminar Series: Tax Planning for Small Businesse
 s
BEGIN:VTIMEZONE
TZID:America/New_York
BEGIN:DAYLIGHT
DTSTART:20230312T010000
TZOFFSETFROM:-0500
TZOFFSETTO:-0400
END:DAYLIGHT
BEGIN:STANDARD
DTSTART:20231105T010000
TZOFFSETFROM:-0400
TZOFFSETTO:-0500
END:STANDARD
BEGIN:DAYLIGHT
DTSTART:20240310T010000
TZOFFSETFROM:-0500
TZOFFSETTO:-0400
END:DAYLIGHT
END:VTIMEZONE
BEGIN:VTIMEZONE
TZID:UTC
BEGIN:STANDARD
DTSTART:20250727T105232
TZOFFSETFROM:+0000
TZOFFSETTO:+0000
END:STANDARD
END:VTIMEZONE
BEGIN:VEVENT
UID:69e9f9f057a57
DTSTAMP:20260423T105232Z
SUMMARY:Four for Fall Seminar Series: Tax Planning for Small Businesses
LOCATION: 
URL:https://macpa.org/catalog/events/107051-four-for-fall-seminar-series-ta
 x-planning-for-small-businesses-2023-29-11
DTSTART;TZID=America/New_York:20231129T080000
DTEND;TZID=America/New_York:20231129T113000
END:VEVENT
END:VCALENDAR