BEGIN:VCALENDAR
VERSION:2.0
PRODID:spatie/icalendar-generator
NAME:Advanced Taxation LLCs & Partnerships – Tax Staff Essentials
X-WR-CALNAME:Advanced Taxation LLCs & Partnerships – Tax Staff Essentials
BEGIN:VTIMEZONE
TZID:America/New_York
BEGIN:DAYLIGHT
DTSTART:20230312T010000
TZOFFSETFROM:-0500
TZOFFSETTO:-0400
END:DAYLIGHT
BEGIN:STANDARD
DTSTART:20231105T010000
TZOFFSETFROM:-0400
TZOFFSETTO:-0500
END:STANDARD
BEGIN:DAYLIGHT
DTSTART:20240310T010000
TZOFFSETFROM:-0500
TZOFFSETTO:-0400
END:DAYLIGHT
END:VTIMEZONE
BEGIN:VTIMEZONE
TZID:UTC
BEGIN:STANDARD
DTSTART:20250725T082553
TZOFFSETFROM:+0000
TZOFFSETTO:+0000
END:STANDARD
END:VTIMEZONE
BEGIN:VEVENT
UID:69e7349187dd4
DTSTAMP:20260421T082553Z
SUMMARY:Advanced Taxation LLCs & Partnerships – Tax Staff Essentials
LOCATION: 
URL:https://macpa.org/catalog/events/107019-advanced-taxation-llcs-partners
 hips-tax-staff-essentials-2023-18-10
DTSTART;TZID=America/New_York:20231018T080000
DTEND;TZID=America/New_York:20231018T153000
END:VEVENT
END:VCALENDAR