BEGIN:VCALENDAR
VERSION:2.0
PRODID:spatie/icalendar-generator
NAME:Ethics and Professional Conduct: Updates and\nPractical Application
X-WR-CALNAME:Ethics and Professional Conduct: Updates and\nPractical Applic
 ation
BEGIN:VTIMEZONE
TZID:America/New_York
BEGIN:DAYLIGHT
DTSTART:20230312T010000
TZOFFSETFROM:-0500
TZOFFSETTO:-0400
END:DAYLIGHT
BEGIN:STANDARD
DTSTART:20231105T010000
TZOFFSETFROM:-0400
TZOFFSETTO:-0500
END:STANDARD
END:VTIMEZONE
BEGIN:VTIMEZONE
TZID:UTC
BEGIN:STANDARD
DTSTART:20250724T222534
TZOFFSETFROM:+0000
TZOFFSETTO:+0000
END:STANDARD
END:VTIMEZONE
BEGIN:VEVENT
UID:69e6a7de37602
DTSTAMP:20260420T222534Z
SUMMARY:Ethics and Professional Conduct: Updates and\nPractical Application
LOCATION: 
URL:https://macpa.org/catalog/events/106990-ethics-and-professional-conduct
 -updates-and-practical-application-2023-16-08
DTSTART;TZID=America/New_York:20230816T080000
DTEND;TZID=America/New_York:20230816T113000
END:VEVENT
END:VCALENDAR