BEGIN:VCALENDAR
VERSION:2.0
PRODID:spatie/icalendar-generator
NAME:Strategic Foresight
X-WR-CALNAME:Strategic Foresight
BEGIN:VTIMEZONE
TZID:America/New_York
BEGIN:STANDARD
DTSTART:20221106T010000
TZOFFSETFROM:-0400
TZOFFSETTO:-0500
END:STANDARD
BEGIN:DAYLIGHT
DTSTART:20230312T010000
TZOFFSETFROM:-0500
TZOFFSETTO:-0400
END:DAYLIGHT
BEGIN:STANDARD
DTSTART:20231105T010000
TZOFFSETFROM:-0400
TZOFFSETTO:-0500
END:STANDARD
END:VTIMEZONE
BEGIN:VTIMEZONE
TZID:UTC
BEGIN:STANDARD
DTSTART:20250727T055811
TZOFFSETFROM:+0000
TZOFFSETTO:+0000
END:STANDARD
END:VTIMEZONE
BEGIN:VEVENT
UID:69e9b4f30ae83
DTSTAMP:20260423T055811Z
SUMMARY:Strategic Foresight
LOCATION: 
URL:https://macpa.org/catalog/events/106785-strategic-foresight-2023-08-06
DTSTART;TZID=America/New_York:20230608T140000
DTEND;TZID=America/New_York:20230608T151000
END:VEVENT
END:VCALENDAR