BEGIN:VCALENDAR
VERSION:2.0
PRODID:spatie/icalendar-generator
NAME:Don Farmer’s 2023 Individual Income Tax Workshop (Rebroadcast)
X-WR-CALNAME:Don Farmer’s 2023 Individual Income Tax Workshop (Rebroadcas
 t)
BEGIN:VTIMEZONE
TZID:America/New_York
BEGIN:STANDARD
DTSTART:20231105T010000
TZOFFSETFROM:-0400
TZOFFSETTO:-0500
END:STANDARD
BEGIN:DAYLIGHT
DTSTART:20240310T010000
TZOFFSETFROM:-0500
TZOFFSETTO:-0400
END:DAYLIGHT
END:VTIMEZONE
BEGIN:VTIMEZONE
TZID:UTC
BEGIN:STANDARD
DTSTART:20250728T013359
TZOFFSETFROM:+0000
TZOFFSETTO:+0000
END:STANDARD
END:VTIMEZONE
BEGIN:VEVENT
UID:69eac887e9afc
DTSTAMP:20260424T013359Z
SUMMARY:Don Farmer’s 2023 Individual Income Tax Workshop (Rebroadcast)
LOCATION: 
URL:https://macpa.org/catalog/events/105853-don-farmers-2023-individual-inc
 ome-tax-workshop-rebroadcast-2023-07-12
DTSTART;TZID=America/New_York:20231207T080000
DTEND;TZID=America/New_York:20231207T154500
END:VEVENT
END:VCALENDAR