BEGIN:VCALENDAR
VERSION:2.0
PRODID:spatie/icalendar-generator
NAME:Don Farmer’s 2023 Federal Tax Update (Rebroadcast)
X-WR-CALNAME:Don Farmer’s 2023 Federal Tax Update (Rebroadcast)
BEGIN:VTIMEZONE
TZID:America/New_York
BEGIN:STANDARD
DTSTART:20231105T010000
TZOFFSETFROM:-0400
TZOFFSETTO:-0500
END:STANDARD
BEGIN:DAYLIGHT
DTSTART:20240310T010000
TZOFFSETFROM:-0500
TZOFFSETTO:-0400
END:DAYLIGHT
END:VTIMEZONE
BEGIN:VTIMEZONE
TZID:UTC
BEGIN:STANDARD
DTSTART:20250728T013220
TZOFFSETFROM:+0000
TZOFFSETTO:+0000
END:STANDARD
END:VTIMEZONE
BEGIN:VEVENT
UID:69eac824c3787
DTSTAMP:20260424T013220Z
SUMMARY:Don Farmer’s 2023 Federal Tax Update (Rebroadcast)
LOCATION: 
URL:https://macpa.org/catalog/events/105852-don-farmers-2023-federal-tax-up
 date-rebroadcast-2024-12-01
DTSTART;TZID=America/New_York:20240112T080000
DTEND;TZID=America/New_York:20240112T160000
END:VEVENT
END:VCALENDAR