BEGIN:VCALENDAR
VERSION:2.0
PRODID:spatie/icalendar-generator
NAME:MACPA Annual Meeting  and Town Hall
X-WR-CALNAME:MACPA Annual Meeting  and Town Hall
BEGIN:VTIMEZONE
TZID:America/New_York
BEGIN:STANDARD
DTSTART:20221106T010000
TZOFFSETFROM:-0400
TZOFFSETTO:-0500
END:STANDARD
BEGIN:DAYLIGHT
DTSTART:20230312T010000
TZOFFSETFROM:-0500
TZOFFSETTO:-0400
END:DAYLIGHT
BEGIN:STANDARD
DTSTART:20231105T010000
TZOFFSETFROM:-0400
TZOFFSETTO:-0500
END:STANDARD
END:VTIMEZONE
BEGIN:VTIMEZONE
TZID:UTC
BEGIN:STANDARD
DTSTART:20250727T105225
TZOFFSETFROM:+0000
TZOFFSETTO:+0000
END:STANDARD
END:VTIMEZONE
BEGIN:VEVENT
UID:69e9f9e9e8f51
DTSTAMP:20260423T105225Z
SUMMARY:MACPA Annual Meeting  and Town Hall
LOCATION:1725 Twin Springs Rd\, Baltimore\, Baltimore County\, Maryland 212
 27
URL:https://macpa.org/catalog/events/105802-macpa-annual-meeting-and-town-h
 all-2023-22-06
DTSTART;TZID=America/New_York:20230622T150000
DTEND;TZID=America/New_York:20230622T170000
GEO:39.255481;-76.66977
X-APPLE-STRUCTURED-LOCATION;VALUE=URI;X-ADDRESS=1725 Twin Springs Rd\, Balt
 imore\, Baltimore County\, Maryland 21227;X-APPLE-RADIUS=72;X-TITLE=Junior
  Achievement:geo:39.255481,-76.66977
END:VEVENT
END:VCALENDAR