BEGIN:VCALENDAR
VERSION:2.0
PRODID:spatie/icalendar-generator
NAME:Don Farmer’s 2023 Corporate/Business Income Tax Workshop
X-WR-CALNAME:Don Farmer’s 2023 Corporate/Business Income Tax Workshop
BEGIN:VTIMEZONE
TZID:America/New_York
BEGIN:DAYLIGHT
DTSTART:20230312T010000
TZOFFSETFROM:-0500
TZOFFSETTO:-0400
END:DAYLIGHT
BEGIN:STANDARD
DTSTART:20231105T010000
TZOFFSETFROM:-0400
TZOFFSETTO:-0500
END:STANDARD
BEGIN:DAYLIGHT
DTSTART:20240310T010000
TZOFFSETFROM:-0500
TZOFFSETTO:-0400
END:DAYLIGHT
END:VTIMEZONE
BEGIN:VTIMEZONE
TZID:UTC
BEGIN:STANDARD
DTSTART:20250728T013220
TZOFFSETFROM:+0000
TZOFFSETTO:+0000
END:STANDARD
END:VTIMEZONE
BEGIN:VEVENT
UID:69eac824c0f3f
DTSTAMP:20260424T013220Z
SUMMARY:Don Farmer’s 2023 Corporate/Business Income Tax Workshop
LOCATION:6817 Dogwood Rd\, Woodlawn\, Baltimore County\, Maryland 21244
URL:https://macpa.org/catalog/events/105705-don-farmers-2023-corporatebusin
 ess-income-tax-workshop-2023-17-11
DTSTART;TZID=America/New_York:20231117T080000
DTEND;TZID=America/New_York:20231117T160000
END:VEVENT
END:VCALENDAR