BEGIN:VCALENDAR
VERSION:2.0
PRODID:spatie/icalendar-generator
NAME:PCAOB Updates
X-WR-CALNAME:PCAOB Updates
BEGIN:VTIMEZONE
TZID:America/New_York
BEGIN:STANDARD
DTSTART:20221106T010000
TZOFFSETFROM:-0400
TZOFFSETTO:-0500
END:STANDARD
BEGIN:DAYLIGHT
DTSTART:20230312T010000
TZOFFSETFROM:-0500
TZOFFSETTO:-0400
END:DAYLIGHT
END:VTIMEZONE
BEGIN:VTIMEZONE
TZID:UTC
BEGIN:STANDARD
DTSTART:20250723T143026
TZOFFSETFROM:+0000
TZOFFSETTO:+0000
END:STANDARD
END:VTIMEZONE
BEGIN:VEVENT
UID:69e4e7020c995
DTSTAMP:20260419T143026Z
SUMMARY:PCAOB Updates
LOCATION: 
URL:https://macpa.org/catalog/events/105478-pcaob-updates-2023-23-03
DTSTART;TZID=America/New_York:20230323T090000
DTEND;TZID=America/New_York:20230323T100000
END:VEVENT
END:VCALENDAR