BEGIN:VCALENDAR
VERSION:2.0
PRODID:spatie/icalendar-generator
NAME:The Complete Guide to the Preparation of Form  1041
X-WR-CALNAME:The Complete Guide to the Preparation of Form  1041
BEGIN:VTIMEZONE
TZID:America/New_York
BEGIN:STANDARD
DTSTART:20211107T010000
TZOFFSETFROM:-0400
TZOFFSETTO:-0500
END:STANDARD
BEGIN:DAYLIGHT
DTSTART:20220313T010000
TZOFFSETFROM:-0500
TZOFFSETTO:-0400
END:DAYLIGHT
END:VTIMEZONE
BEGIN:VTIMEZONE
TZID:UTC
BEGIN:STANDARD
DTSTART:20250723T184757
TZOFFSETFROM:+0000
TZOFFSETTO:+0000
END:STANDARD
END:VTIMEZONE
BEGIN:VEVENT
UID:69e5235d4a664
DTSTAMP:20260419T184757Z
SUMMARY:The Complete Guide to the Preparation of Form  1041
LOCATION: 
URL:https://macpa.org/catalog/events/102010-the-complete-guide-to-the-prepa
 ration-of-form-1041-2022-21-01
DTSTART;TZID=America/New_York:20220121T080000
DTEND;TZID=America/New_York:20220121T160000
END:VEVENT
END:VCALENDAR