BEGIN:VCALENDAR
VERSION:2.0
PRODID:spatie/icalendar-generator
NAME:Inclusive Leadership: Does It Really Work?
X-WR-CALNAME:Inclusive Leadership: Does It Really Work?
BEGIN:VTIMEZONE
TZID:America/New_York
BEGIN:STANDARD
DTSTART:20211107T010000
TZOFFSETFROM:-0400
TZOFFSETTO:-0500
END:STANDARD
BEGIN:DAYLIGHT
DTSTART:20220313T010000
TZOFFSETFROM:-0500
TZOFFSETTO:-0400
END:DAYLIGHT
END:VTIMEZONE
BEGIN:VTIMEZONE
TZID:UTC
BEGIN:STANDARD
DTSTART:20250728T085009
TZOFFSETFROM:+0000
TZOFFSETTO:+0000
END:STANDARD
END:VTIMEZONE
BEGIN:VEVENT
UID:69eb2ec1c76af
DTSTAMP:20260424T085009Z
SUMMARY:Inclusive Leadership: Does It Really Work?
LOCATION: 
URL:https://macpa.org/catalog/events/101866-inclusive-leadership-does-it-re
 ally-work-2022-18-03
DTSTART;TZID=America/New_York:20220318T140000
DTEND;TZID=America/New_York:20220318T150000
END:VEVENT
END:VCALENDAR