BEGIN:VCALENDAR
VERSION:2.0
PRODID:spatie/icalendar-generator
NAME:PTE Update
X-WR-CALNAME:PTE Update
BEGIN:VTIMEZONE
TZID:America/New_York
BEGIN:DAYLIGHT
DTSTART:20210314T010000
TZOFFSETFROM:-0500
TZOFFSETTO:-0400
END:DAYLIGHT
BEGIN:STANDARD
DTSTART:20211107T010000
TZOFFSETFROM:-0400
TZOFFSETTO:-0500
END:STANDARD
END:VTIMEZONE
BEGIN:VTIMEZONE
TZID:UTC
BEGIN:STANDARD
DTSTART:20250724T005548
TZOFFSETFROM:+0000
TZOFFSETTO:+0000
END:STANDARD
END:VTIMEZONE
BEGIN:VEVENT
UID:69e579942244d
DTSTAMP:20260420T005548Z
SUMMARY:PTE Update
LOCATION: 
URL:https://macpa.org/catalog/events/101407-pte-update-2021-04-08
DTSTART;TZID=America/New_York:20210804T100000
DTEND;TZID=America/New_York:20210804T120000
END:VEVENT
END:VCALENDAR