BEGIN:VCALENDAR
VERSION:2.0
PRODID:spatie/icalendar-generator
NAME:Form 990: Mastering Its Unique Characteristics
X-WR-CALNAME:Form 990: Mastering Its Unique Characteristics
BEGIN:VTIMEZONE
TZID:America/New_York
BEGIN:STANDARD
DTSTART:20211107T010000
TZOFFSETFROM:-0400
TZOFFSETTO:-0500
END:STANDARD
BEGIN:DAYLIGHT
DTSTART:20220313T010000
TZOFFSETFROM:-0500
TZOFFSETTO:-0400
END:DAYLIGHT
END:VTIMEZONE
BEGIN:VTIMEZONE
TZID:UTC
BEGIN:STANDARD
DTSTART:20250724T180146
TZOFFSETFROM:+0000
TZOFFSETTO:+0000
END:STANDARD
END:VTIMEZONE
BEGIN:VEVENT
UID:69e66a0a4877c
DTSTAMP:20260420T180146Z
SUMMARY:Form 990: Mastering Its Unique Characteristics
LOCATION: 
URL:https://macpa.org/catalog/events/100912-form-990-mastering-its-unique-c
 haracteristics-2022-18-01
DTSTART;TZID=America/New_York:20220118T090000
DTEND;TZID=America/New_York:20220118T170000
END:VEVENT
END:VCALENDAR