BEGIN:VCALENDAR
VERSION:2.0
PRODID:spatie/icalendar-generator
NAME:Form 990: Best Practices for Accurate Preparation
X-WR-CALNAME:Form 990: Best Practices for Accurate Preparation
BEGIN:VTIMEZONE
TZID:America/New_York
BEGIN:DAYLIGHT
DTSTART:20210314T010000
TZOFFSETFROM:-0500
TZOFFSETTO:-0400
END:DAYLIGHT
BEGIN:STANDARD
DTSTART:20211107T010000
TZOFFSETFROM:-0400
TZOFFSETTO:-0500
END:STANDARD
END:VTIMEZONE
BEGIN:VTIMEZONE
TZID:UTC
BEGIN:STANDARD
DTSTART:20250724T175202
TZOFFSETFROM:+0000
TZOFFSETTO:+0000
END:STANDARD
END:VTIMEZONE
BEGIN:VEVENT
UID:69e667c224a15
DTSTAMP:20260420T175202Z
SUMMARY:Form 990: Best Practices for Accurate Preparation
LOCATION: 
URL:https://macpa.org/catalog/events/99870-form-990-best-practices-for-accu
 rate-preparation-2021-30-08
DTSTART;TZID=America/New_York:20210830T090000
DTEND;TZID=America/New_York:20210830T170000
END:VEVENT
END:VCALENDAR