BEGIN:VCALENDAR
VERSION:2.0
PRODID:spatie/icalendar-generator
NAME:CFO/Controller & Financial Professional Updates Seminar Series: Soft S
 kills in Leadership\, Negotiation\, and Team Building (LIVE WEBCAST)
X-WR-CALNAME:CFO/Controller & Financial Professional Updates Seminar Series
 : Soft Skills in Leadership\, Negotiation\, and Team Building (LIVE WEBCAS
 T)
BEGIN:VTIMEZONE
TZID:America/New_York
BEGIN:STANDARD
DTSTART:20191103T010000
TZOFFSETFROM:-0400
TZOFFSETTO:-0500
END:STANDARD
BEGIN:DAYLIGHT
DTSTART:20200308T010000
TZOFFSETFROM:-0500
TZOFFSETTO:-0400
END:DAYLIGHT
BEGIN:STANDARD
DTSTART:20201101T010000
TZOFFSETFROM:-0400
TZOFFSETTO:-0500
END:STANDARD
END:VTIMEZONE
BEGIN:VTIMEZONE
TZID:UTC
BEGIN:STANDARD
DTSTART:20250724T141855
TZOFFSETFROM:+0000
TZOFFSETTO:+0000
END:STANDARD
END:VTIMEZONE
BEGIN:VEVENT
UID:69e635cfc637d
DTSTAMP:20260420T141855Z
SUMMARY:CFO/Controller & Financial Professional Updates Seminar Series: Sof
 t Skills in Leadership\, Negotiation\, and Team Building (LIVE WEBCAST)
LOCATION: 
URL:https://macpa.org/catalog/events/93941-cfocontroller-financial-professi
 onal-updates-seminar-series-soft-skills-in-leadership-negotiation-and-team
 -building-live-webcast-2020-04-06
DTSTART;TZID=America/New_York:20200604T080000
DTEND;TZID=America/New_York:20200604T153000
END:VEVENT
END:VCALENDAR