BEGIN:VCALENDAR
VERSION:2.0
PRODID:spatie/icalendar-generator
NAME:Tax Reform Update – Corporations and Pass-Through Entities
X-WR-CALNAME:Tax Reform Update – Corporations and Pass-Through Entities
BEGIN:VTIMEZONE
TZID:America/New_York
BEGIN:DAYLIGHT
DTSTART:20180311T010000
TZOFFSETFROM:-0500
TZOFFSETTO:-0400
END:DAYLIGHT
BEGIN:STANDARD
DTSTART:20181104T010000
TZOFFSETFROM:-0400
TZOFFSETTO:-0500
END:STANDARD
BEGIN:DAYLIGHT
DTSTART:20190310T010000
TZOFFSETFROM:-0500
TZOFFSETTO:-0400
END:DAYLIGHT
END:VTIMEZONE
BEGIN:VTIMEZONE
TZID:UTC
BEGIN:STANDARD
DTSTART:20250727T174216
TZOFFSETFROM:+0000
TZOFFSETTO:+0000
END:STANDARD
END:VTIMEZONE
BEGIN:VEVENT
UID:69ea59f898ee1
DTSTAMP:20260423T174216Z
SUMMARY:Tax Reform Update – Corporations and Pass-Through Entities
LOCATION: 
URL:https://macpa.org/catalog/events/89442-tax-reform-update-corporations-a
 nd-pass-through-entities-2018-24-09
DTSTART;TZID=America/New_York:20180924T130000
DTEND;TZID=America/New_York:20180924T170000
END:VEVENT
END:VCALENDAR